BEGIN:VCALENDAR
VERSION:2.0
PRODID:icalendar-ruby
CALSCALE:GREGORIAN
BEGIN:VEVENT
DTSTAMP:20260424T162734Z
UID:0f65d8ff-5707-4026-a171-9a04095826bb
DTSTART:20250220T200000Z
DTEND:20250221T013001Z
DESCRIPTION:
LOCATION:
SUMMARY:Senior (Years 5 to 8) Swimming Sports at Lloyd Elsmore
URL:
END:VEVENT
END:VCALENDAR
